BEGIN:VCALENDAR
VERSION:2.0
PRODID:-//Contratero//ES
CALSCALE:GREGORIAN
METHOD:PUBLISH
BEGIN:VEVENT
UID:2019/ 000361@contratero.es
DTSTAMP:20260421T191959Z
DTSTART:20190424T235959
DTEND:20190425T005959
SUMMARY:Cierre: Uso de diversos dominios de Internet en el Ayuntam
DESCRIPTION:Uso de diversos dominios de Internet en el Ayuntamiento de Sevilla (Ref. 7/19)\\n\\nOrganismo: Órganos Directivos del Ayuntamiento de Sevilla\\n\\nVer en Contratero: https://contratero.es/contracts/2019/ 000361
URL:https://contratero.es/contracts/2019/ 000361
STATUS:CONFIRMED
BEGIN:VALARM
TRIGGER:-P1D
ACTION:DISPLAY
DESCRIPTION:Recordatorio: Uso de diversos dominios de In
END:VALARM
END:VEVENT
END:VCALENDAR